BEGIN:VCALENDAR
VERSION:2.0
PRODID:-//Blackstone-Ipswich Cambrian Choir - ECPv6.15.20//NONSGML v1.0//EN
CALSCALE:GREGORIAN
METHOD:PUBLISH
X-WR-CALNAME:Blackstone-Ipswich Cambrian Choir
X-ORIGINAL-URL:https://cambrianchoir.org.au
X-WR-CALDESC:Events for Blackstone-Ipswich Cambrian Choir
REFRESH-INTERVAL;VALUE=DURATION:PT1H
X-Robots-Tag:noindex
X-PUBLISHED-TTL:PT1H
BEGIN:VTIMEZONE
TZID:Australia/Brisbane
BEGIN:STANDARD
TZOFFSETFROM:+1000
TZOFFSETTO:+1000
TZNAME:AEST
DTSTART:20250101T000000
END:STANDARD
END:VTIMEZONE
BEGIN:VEVENT
DTSTART;TZID=Australia/Brisbane:20260513T093000
DTEND;TZID=Australia/Brisbane:20260513T120000
DTSTAMP:20260424T195331
CREATED:20260413T044539Z
LAST-MODIFIED:20260414T004142Z
UID:2546-1778664600-1778673600@cambrianchoir.org.au
SUMMARY:Colour My World | Coro Concorde
DESCRIPTION:Please join Coro Concorde on May 13th at 9.30am at the Cambrian Centre Booval as we celebrate the colours of our world and explore how we use the visible light spectrum to describe and interpret many aspects of our everyday life. From the Yellow Rose of Texas to the Black Hills of Dakota and Blue Hawaii; we travel in our Yellow Submarine as well as in Blue Skies as we see how colours influence our moods and Joie de Vivre. \nWe’ll have our delicious morning tea included and there will be lots of fun with raffles and singalongs. So be sure to book your tickets for a colourful morning of music.
URL:https://cambrianchoir.org.au/event/colour-my-world
LOCATION:Cambrian Centre\, 10 South Station Road\, Booval\, Qld\, 4304\, Australia
ATTACH;FMTTYPE=image/jpeg:https://cambrianchoir.org.au/wp-content/uploads/2026/04/Colour-my-world-Event-Header.jpg
END:VEVENT
END:VCALENDAR